BEGIN:VCALENDAR
VERSION:2.0
PRODID:-//Tukios.com/
BEGIN:VEVENT
UID:3f906845-30e1-4f23-b12d-89919a9bdfd9@www.zimmermanfh.com
DTSTAMP:20260424T234205Z
DTSTART:20260501T143000Z
DTEND:20260501T153000Z
SUMMARY:Visitation
DESCRIPTION:
URL:https://www.zimmermanfh.com/obituaries/ruth-stuller-berger
LOCATION:Harold M. Zimmerman & Son Funeral Home  45 South Carlisle Street 
	 Greencastle PA 17225
GEO:39.7892477;-77.7283526
END:VEVENT
END:VCALENDAR