BEGIN:VCALENDAR
VERSION:2.0
PRODID:-//Tukios.com/
BEGIN:VEVENT
UID:523bdc80-cb96-400e-8794-f2b8bb560b5d@www.zimmermanfh.com
DTSTAMP:20260424T233639Z
DTSTART:20260501T153000Z
DTEND:20260501T163000Z
SUMMARY:Memorial Service
DESCRIPTION:
URL:https://www.zimmermanfh.com/obituaries/ruth-stuller-berger
LOCATION:Harold M. Zimmerman & Son Funeral Home  45 South Carlisle Street 
	 Greencastle PA 17225
GEO:39.7892477;-77.7283526
END:VEVENT
END:VCALENDAR