BEGIN:VCALENDAR
VERSION:2.0
PRODID:-//Tukios.com/
BEGIN:VEVENT
UID:648e5aca-06d4-4950-9e72-bc2c51f91854@www.zimmermanfh.com
DTSTAMP:20260419T174100Z
DTSTART:20260421T130000Z
DTEND:20260421T140000Z
SUMMARY:Visitation
DESCRIPTION:
URL:https://www.zimmermanfh.com/obituaries/dorcas-timmons-eby-showalter
LOCATION:Mercersburg Mennonite Church  10060 Buchanan Trail West  
	Mercersburg PA 17236
GEO:39.8097627;-77.8813561
END:VEVENT
END:VCALENDAR