BEGIN:VCALENDAR
VERSION:2.0
PRODID:-//Tukios.com/
BEGIN:VEVENT
UID:c2786820-f539-4e90-b175-7f337d1ac925@www.zimmermanfh.com
DTSTAMP:20260419T174351Z
DTSTART:20260421T140000Z
DTEND:20260421T150000Z
SUMMARY:Funeral Service
DESCRIPTION:
URL:https://www.zimmermanfh.com/obituaries/dorcas-timmons-eby-showalter
LOCATION:Mercersburg Mennonite Church  10060 Buchanan Trail West  
	Mercersburg PA 17236
GEO:39.8097627;-77.8813561
END:VEVENT
END:VCALENDAR