BEGIN:VCALENDAR
VERSION:2.0
PRODID:-//Tukios.com/
BEGIN:VEVENT
UID:9e6e54ee-5b03-4a8d-99e7-8fff423eee03@www.zimmermanfh.com
DTSTAMP:20260422T003211Z
DTSTART:20260424
SUMMARY:Burial
DESCRIPTION:
URL:https://www.zimmermanfh.com/obituaries/charles-powell
LOCATION: Shanks Church Road  Greencastle PA 17225
GEO:39.7704743;-77.7520641
END:VEVENT
END:VCALENDAR