BEGIN:VCALENDAR
VERSION:2.0
PRODID:-//Tukios.com/
BEGIN:VEVENT
UID:de8d6dba-3b63-4f6d-b453-133d44feed63@www.zimmermanfh.com
DTSTAMP:20260422T002950Z
DTSTART:20260424T150000Z
DTEND:20260424T160000Z
SUMMARY:Funeral Service
DESCRIPTION:
URL:https://www.zimmermanfh.com/obituaries/charles-powell
LOCATION: 36 South Carlisle Street  Greencastle PA 17225
GEO:39.7890477;-77.72784
END:VEVENT
END:VCALENDAR