BEGIN:VCALENDAR
VERSION:2.0
PRODID:-//Tukios.com/
BEGIN:VEVENT
UID:5ea96337-4cc4-471f-b4c2-59e568b9599e@www.zimmermanfh.com
DTSTAMP:20260422T003420Z
DTSTART:20260424T140000Z
DTEND:20260424T150000Z
SUMMARY:Visitation
DESCRIPTION:
URL:https://www.zimmermanfh.com/obituaries/charles-powell
LOCATION: 36 South Carlisle Street  Greencastle PA 17225
GEO:39.7890477;-77.72784
END:VEVENT
END:VCALENDAR